BEGIN:VCALENDAR
VERSION:2.0
PRODID:spatie/icalendar-generator
BEGIN:VEVENT
UID:10468
SUMMARY:DJs Available Entertainment Showcase 5-18-26
DESCRIPTION:Come check out our awesome DJs at the DJ Entertainment Showcase
 ! Lighting\, Special Effects and Photo Booths!\n\nCome and Party with us
 !\n\nOur DJ Entertainers will Perform for you!\n\nSpecial Effect & Lig
 hting Displays\n\nHave Fun in our Photo Booth!\n\nPhotography and Vide
 o Services displays\n\nEnjoy Complimentary Lite Bites\n\nAnd Find the 
 Perfect Entertainment for your Wedding!
LOCATION:515 Fellowship Road\, Mount Laurel Township\, New Jersey 08054.
STATUS:CONFIRMED
URL:https://weddingshows.net/wedding-show/djs-available-entertainment-showc
 ase-5-18-26-18-may-2026
DTSTART:20260518T110000Z
DTEND:20260518T130000Z
DTSTAMP:20260421T120036Z
GEO:39.9368747;-74.9567171
X-APPLE-STRUCTURED-LOCATION;VALUE=URI;X-ADDRESS=515 Fellowship Road\, Mount
  Laurel Township\, New Jersey 08054.;X-APPLE-RADIUS=72;X-TITLE=DoubleTree 
 Suites by Hilton Hotel Mt. Laurel:39.9368747;-74.9567171
BEGIN:VALARM
ACTION:DISPLAY
TRIGGER:-PT10080M
END:VALARM
END:VEVENT
END:VCALENDAR