BEGIN:VCALENDAR
VERSION:2.0
PRODID:spatie/icalendar-generator
BEGIN:VEVENT
UID:10467
SUMMARY:Wedding show at The Ocean View Restaurant
DESCRIPTION:With the Atlantic Ocean as your backdrop\, The Ocean View Resta
 urant offers an affordable and attractive location along the Jersey Shore.
  We specialize in events of all sizes\, from weddings\, bridal & baby show
 ers to retirement parties\, rehearsal dinners\, birthday parties\, fundrai
 sers\, graduations\, reunions\, cocktail receptions and dinner banquets. C
 ome see the newest venue on the jersey shore! Register now for this weddin
 g and bridal expo!
LOCATION:Seaside Park 2 Boardwalk\, Seaside Heights\, New Jersey 08751.
STATUS:CONFIRMED
URL:https://weddingshows.net/wedding-show/wedding-show-at-the-ocean-view-re
 staurant-8-november-2026
DTSTART:20261108T180000Z
DTEND:20261108T203000Z
DTSTAMP:20260421T182350Z
GEO:39.9376744;-74.0711978
X-APPLE-STRUCTURED-LOCATION;VALUE=URI;X-ADDRESS=Seaside Park 2 Boardwalk\, 
 Seaside Heights\, New Jersey 08751.;X-APPLE-RADIUS=72;X-TITLE=The Ocean Vi
 ew Restaurant (Seaside Heights NJ):39.9376744;-74.0711978
BEGIN:VALARM
ACTION:DISPLAY
TRIGGER:-PT10080M
END:VALARM
END:VEVENT
END:VCALENDAR