BEGIN:VCALENDAR
VERSION:2.0
PRODID:spatie/icalendar-generator
BEGIN:VEVENT
UID:10465
SUMMARY:Wedding Show Galleria at Crystal Run
DESCRIPTION:Join us for a one-of-a-kind wedding show at the Galleria at Cry
 stal Run! With the top wedding professionals in the business\, fashions\, 
 live entertainment\, prizes\, and a honeymoon giveaway\, you will be sure 
 to find everything you need to plan the wedding of your dreams! Join us fo
 r the bridal show and wedding expo. One of New York's best bridal shows ne
 ar you!
LOCATION:Middletown 1 N Galleria Drive\, Middletown\, New York 10941.
STATUS:CONFIRMED
URL:https://weddingshows.net/wedding-show/wedding-show-galleria-at-crystal-
 run-7-november-2026
DTSTART:20261107T180000Z
DTEND:20261107T210000Z
DTSTAMP:20260423T135720Z
GEO:41.4531405;-74.3686443
X-APPLE-STRUCTURED-LOCATION;VALUE=URI;X-ADDRESS=Middletown 1 N Galleria Dri
 ve\, Middletown\, New York 10941.;X-APPLE-RADIUS=72;X-TITLE=Galleria at Cr
 ystal Run (Middletown NY):41.4531405;-74.3686443
BEGIN:VALARM
ACTION:DISPLAY
TRIGGER:-PT10080M
END:VALARM
END:VEVENT
END:VCALENDAR