BEGIN:VCALENDAR
VERSION:2.0
PRODID:spatie/icalendar-generator
BEGIN:VEVENT
UID:10464
SUMMARY:Wedding Show at Jacques Reception Center
DESCRIPTION:Join our bridal show and wedding event at the unforgettable Jac
 ques Reception Center. The modern reception hall takes its inspiration fro
 m the warmth and charm of a Roman villa\, and it’s right here in Monmout
 h County\, NJ. We are proud to feature a serene and elegant bridal suite t
 hat will satisfy all your bridal party needs. We invite you and all your g
 uests to indulge in first-class cuisine drawing from worldwide flavors. An
 d we treat all our clients like royalty\, working with precision and atten
 tion to detail to ensure every event is second to none. Join us for this w
 edding expo!
LOCATION:Middletown 500 Palmer Avenue\, Middletown Township\, New Jersey 07
 748.
STATUS:CONFIRMED
URL:https://weddingshows.net/wedding-show/wedding-show-at-jacques-reception
 -center-21-october-2026
DTSTART:20261021T230000Z
DTEND:20261022T013000Z
DTSTAMP:20260421T182709Z
GEO:40.4332881;-74.1314566
X-APPLE-STRUCTURED-LOCATION;VALUE=URI;X-ADDRESS=Middletown 500 Palmer Avenu
 e\, Middletown Township\, New Jersey 07748.;X-APPLE-RADIUS=72;X-TITLE=Jacq
 ues Reception Center (Middletown NJ):40.4332881;-74.1314566
BEGIN:VALARM
ACTION:DISPLAY
TRIGGER:-PT10080M
END:VALARM
END:VEVENT
END:VCALENDAR