BEGIN:VCALENDAR
VERSION:2.0
PRODID:spatie/icalendar-generator
BEGIN:VEVENT
UID:10463
SUMMARY:Wedding Show at Poughkeepsie Galleria
DESCRIPTION:Join us for a one-of-a-kind wedding show at the Poughkeepsie Ga
 lleria! With the top wedding professionals in the business\, fashions\, li
 ve entertainment\, prizes\, and a honeymoon giveaway\, you will be sure to
  find everything you need to plan the wedding of your dreams! Join us for 
 the bridal show and wedding expo.
LOCATION:Poughkeepsie 2001 South Road\, Poughkeepsie\, New York 12601.
STATUS:CONFIRMED
URL:https://weddingshows.net/wedding-show/wedding-show-at-poughkeepsie-gall
 eria-17-october-2026
DTSTART:20261017T170000Z
DTEND:20261017T193000Z
DTSTAMP:20260423T135327Z
GEO:41.6254772;-73.9205509
X-APPLE-STRUCTURED-LOCATION;VALUE=URI;X-ADDRESS=Poughkeepsie 2001 South Roa
 d\, Poughkeepsie\, New York 12601.;X-APPLE-RADIUS=72;X-TITLE=Poughkeepsie 
 Galleria (Middletown NY):41.6254772;-73.9205509
BEGIN:VALARM
ACTION:DISPLAY
TRIGGER:-PT10080M
END:VALARM
END:VEVENT
END:VCALENDAR