BEGIN:VCALENDAR
VERSION:2.0
PRODID:spatie/icalendar-generator
BEGIN:VEVENT
UID:10460
SUMMARY:Wedding Show at Clarion Hotel and Conference Center
DESCRIPTION:Come and see our totally renovated ballrooms\, lobby\, bar and 
 beautiful hotel rooms and suites. For more than 30 years we have provided 
 wedding planning services at the GOLD AWARD WINNING Clarion Hotel & Confer
 ence Center. Our 3 diamond AAA rated hotel catering service provides delic
 ious\, several course meals to share with your wedding guests. The upscale
  atmosphere\, and our attention to detail is sure to make your wedding a d
 ay no one will forget! Don’t miss our bridal show with local vendors and
  a bridal fashion show!
LOCATION:Toms River 815 Rt 37\, Toms River\, New Jersey 08755.
STATUS:CONFIRMED
URL:https://weddingshows.net/wedding-show/wedding-show-at-clarion-hotel-and
 -conference-center-20-august-2026
DTSTART:20260820T230000Z
DTEND:20260821T013000Z
DTSTAMP:20260421T182648Z
GEO:39.9699872;-74.2372369
X-APPLE-STRUCTURED-LOCATION;VALUE=URI;X-ADDRESS=Toms River 815 Rt 37\, Toms
  River\, New Jersey 08755.;X-APPLE-RADIUS=72;X-TITLE=Clarion Hotel and Con
 ference Center (Toms River NJ):39.9699872;-74.2372369
BEGIN:VALARM
ACTION:DISPLAY
TRIGGER:-PT10080M
END:VALARM
END:VEVENT
END:VCALENDAR