BEGIN:VCALENDAR
VERSION:2.0
PRODID:spatie/icalendar-generator
BEGIN:VEVENT
UID:10459
SUMMARY:Wedding Show at the House of Independence
DESCRIPTION:House of Independents brings Asbury Park’s ever-growing commu
 nity of creative thinkers a venue that reflects their originality and vers
 atility. The House supports a wide spectrum of uses\, with convertible att
 ributes such as its retractable seating system and movable stages. The sta
 dium-style seats can be implemented for theatre productions\, movie premie
 res\, conferences and more\, or they can be hidden away to open floor spac
 e for events such as weddings\, concerts\, and fundraisers. Stop by for an
  event and see for yourself why House of Independents is the premier Asbur
 y Park event venue!
LOCATION:Asbury Park 572 Cookman Avenue\,\, Asbury Park\, New Jersey 07712.
STATUS:CONFIRMED
URL:https://weddingshows.net/wedding-show/wedding-show-at-the-house-of-inde
 pendence-15-july-2026
DTSTART:20260715T230000Z
DTEND:20260716T013000Z
DTSTAMP:20260421T182811Z
GEO:40.2159749;-74.0098128
X-APPLE-STRUCTURED-LOCATION;VALUE=URI;X-ADDRESS=Asbury Park 572 Cookman Ave
 nue\,\, Asbury Park\, New Jersey 07712.;X-APPLE-RADIUS=72;X-TITLE=House of
  Independence:40.2159749;-74.0098128
BEGIN:VALARM
ACTION:DISPLAY
TRIGGER:-PT10080M
END:VALARM
END:VEVENT
END:VCALENDAR