BEGIN:VCALENDAR
VERSION:2.0
PRODID:spatie/icalendar-generator
BEGIN:VEVENT
UID:10457
SUMMARY:Wedding Show at Mountain Creek Resort Red Tail Lodge
DESCRIPTION:Say “I do” at our exclusive wedding venue right here at Mou
 ntain Creek with a scenic mountaintop ceremony followed by a reception in 
 a rustic yet luxurious lodge. We know how important this day is to you and
  our wedding specialists will help craft a magical experience that caters 
 to your every need. Nestled in the scenic northern New Jersey\, the beauti
 ful Red Tail Lodge welcomes guests with vaulted ceilings\, exposed beams a
 nd elegant decor. Join us and we will provide a seamless day from start to
  finish\, enhancing memories that will last a lifetime. Let our wedding sp
 ecialists make your dreams come true. See you at our bridal show and weddi
 ng expo.
LOCATION:Vernon 200 NJ-94\, Hillsdale\, New Jersey 07642.
STATUS:CONFIRMED
URL:https://weddingshows.net/wedding-show/wedding-show-at-mountain-creek-re
 sort-red-tail-lodge-15-november-2026
DTSTART:20261115T180000Z
DTEND:20261115T203000Z
DTSTAMP:20260421T182811Z
GEO:41.0078617;-74.0447003
X-APPLE-STRUCTURED-LOCATION;VALUE=URI;X-ADDRESS=Vernon 200 NJ-94\, Hillsdal
 e\, New Jersey 07642.;X-APPLE-RADIUS=72;X-TITLE=Mountain Creek Resort Red 
 Tail Lodge:41.0078617;-74.0447003
BEGIN:VALARM
ACTION:DISPLAY
TRIGGER:-PT10080M
END:VALARM
END:VEVENT
END:VCALENDAR