BEGIN:VCALENDAR
VERSION:2.0
PRODID:spatie/icalendar-generator
BEGIN:VEVENT
UID:10456
SUMMARY:Wedding Show at The Barn at Laird located at Triple L Farms
DESCRIPTION:Imagine this…you’ve been searching for a Monmouth County ba
 rn venue for your special event that is the perfect blend of elevated rust
 ic. Nestled amongst Colts Neck\, NJ’s quintessential horse farms you fin
 d The Barn at Laird\, a unique event venue located at Triple L Farms. Our 
 Blank Canvas Transforms into the Celebration of Your Dreams From the spraw
 ling cattle fields to our expansive indoor arena-turned-event space\, our 
 venue may be customized to accommodate a range of events. From intimate en
 gagement parties to charity events and large weddings of 350 guests\, we w
 ill work together to bring your event vision to life. Can't wait to meet y
 ou at our bridal event!
LOCATION:Colts Neck\, 164 Laird Road\, Colts Neck\, New Jersey 07722.
STATUS:CONFIRMED
URL:https://weddingshows.net/wedding-show/wedding-show-at-the-barn-at-laird
 -located-at-triple-l-farms-23-september-2026
DTSTART:20260923T230000Z
DTEND:20260924T013000Z
DTSTAMP:20260421T182422Z
GEO:40.3164528;-74.1608812
X-APPLE-STRUCTURED-LOCATION;VALUE=URI;X-ADDRESS=Colts Neck\, 164 Laird Road
 \, Colts Neck\, New Jersey 07722.;X-APPLE-RADIUS=72;X-TITLE=The Barn at La
 ird located at Triple L Farms:40.3164528;-74.1608812
BEGIN:VALARM
ACTION:DISPLAY
TRIGGER:-PT10080M
END:VALARM
END:VEVENT
END:VCALENDAR