BEGIN:VCALENDAR
VERSION:2.0
PRODID:spatie/icalendar-generator
BEGIN:VEVENT
UID:10421
SUMMARY:Fredericksburg Greater Virginia Bridal Show
DESCRIPTION:Plan your wedding in one afternoon in an elegant\, stress free 
 and fun environment.\nThe show is held indoors in Exhibit Hall A.\nMeet 
 with top wedding vendors face to face\nIndulge in food & dessert samples
 \nFun demos\nDesigner bridal fashion show\nThousands of dollars in givea
 ways\, plus the grand prize is a luxury 8 day\, 7 night honeymoon to the c
 hoice of over 3\,000 resorts world-wide!\nCopies of Virginia Weddings Mag
 azine while they last plus other goodies.
LOCATION:2400 Airport Avenue\, Fredericksburg\, Virginia 22401.
STATUS:CONFIRMED
URL:https://weddingshows.net/wedding-show/fredericksburg-greater-virginia-b
 ridal-show-23-august-2026
DTSTART:20260823T170000Z
DTEND:20260823T200000Z
DTSTAMP:20260425T144207Z
GEO:38.277024;-77.4532243
X-APPLE-STRUCTURED-LOCATION;VALUE=URI;X-ADDRESS=2400 Airport Avenue\, Frede
 ricksburg\, Virginia 22401.;X-APPLE-RADIUS=72;X-TITLE=Fredericksburg Fairg
 rounds:38.277024;-77.4532243
BEGIN:VALARM
ACTION:DISPLAY
TRIGGER:-PT10080M
END:VALARM
END:VEVENT
END:VCALENDAR