BEGIN:VCALENDAR
VERSION:2.0
PRODID:spatie/icalendar-generator
BEGIN:VEVENT
UID:10420
SUMMARY:The Harrisonburg Greater Virginia Bridal Show
DESCRIPTION:Plan your wedding in one afternoon in an elegant\, stress free 
 and fun environment.\nMeet with top wedding vendors face to face\nIndulg
 e in food & dessert samples\nFun demos\nDesigner bridal fashion show\nT
 housands of dollars in giveaways\, plus the grand prize is a luxury 8 day\
 , 7 night honeymoon to the choice of over 3\,000 resorts world-wide!\nCop
 ies of Virginia Weddings Magazine while they last plus other goodies.
LOCATION:76 West Gay Street\, Harrisonburg\, Virginia 22802.
STATUS:CONFIRMED
URL:https://weddingshows.net/wedding-show/the-harrisonburg-greater-virginia
 -bridal-show-16-august-2026
DTSTART:20260816T170000Z
DTEND:20260816T200000Z
DTSTAMP:20260425T160809Z
GEO:38.453865;-78.8691731
X-APPLE-STRUCTURED-LOCATION;VALUE=URI;X-ADDRESS=76 West Gay Street\, Harris
 onburg\, Virginia 22802.;X-APPLE-RADIUS=72;X-TITLE=The Loft at Liberty St.
 :38.453865;-78.8691731
BEGIN:VALARM
ACTION:DISPLAY
TRIGGER:-PT10080M
END:VALARM
END:VEVENT
END:VCALENDAR