BEGIN:VCALENDAR
VERSION:2.0
PRODID:spatie/icalendar-generator
BEGIN:VEVENT
UID:10419
SUMMARY:Chantilly Greater Virginia Bridal Show
DESCRIPTION:Plan your wedding in one afternoon in an elegant\, stress free 
 and fun environment. The show is held indoors in Exhibit Hall A. Meet with
  top wedding vendors face to face Indulge in food & dessert samples Fun de
 mos Designer bridal fashion show Thousands of dollars in giveaways\, plus 
 the grand prize is a luxury 8 day\, 7 night honeymoon to the choice of ove
 r 3\,000 resorts world-wide! Copies of Virginia Weddings Magazine while th
 ey last plus other goodies
LOCATION:14750 Conference Center Drive\, Chantilly\, Virginia 20151.
STATUS:CONFIRMED
URL:https://weddingshows.net/wedding-show/chantilly-greater-virginia-bridal
 -show-26-july-2026
DTSTART:20260726T170000Z
DTEND:20260726T200000Z
DTSTAMP:20260425T144439Z
GEO:38.8748792;-77.4561493
X-APPLE-STRUCTURED-LOCATION;VALUE=URI;X-ADDRESS=14750 Conference Center Dri
 ve\, Chantilly\, Virginia 20151.;X-APPLE-RADIUS=72;X-TITLE=Westfields Marr
 iott Washington Dulles:38.8748792;-77.4561493
BEGIN:VALARM
ACTION:DISPLAY
TRIGGER:-PT10080M
END:VALARM
END:VEVENT
END:VCALENDAR