BEGIN:VCALENDAR
VERSION:2.0
PRODID:spatie/icalendar-generator
BEGIN:VEVENT
UID:10418
SUMMARY:The Richmond Greater Virginia Bridal Show
DESCRIPTION:Plan your wedding in one afternoon in an elegant\, stress free 
 and fun environment.\nThe show is held indoors in Exhibit Hall A.\nMeet 
 with top wedding vendors face to face\nIndulge in food & dessert samples
 \nFun demos\nDesigner bridal fashion show\nThousands of dollars in givea
 ways\, plus the grand prize is a luxury 8 day\, 7 night honeymoon to the c
 hoice of over 3\,000 resorts world-wide!\nCopies of Virginia Weddings Mag
 azine while they last plus other goodies
LOCATION:403 North 3rd Street\, Richmond\, Virginia 23219.
STATUS:CONFIRMED
URL:https://weddingshows.net/wedding-show/the-richmond-greater-virginia-bri
 dal-show-7-june-2026
DTSTART:20260607T170000Z
DTEND:20260607T200000Z
DTSTAMP:20260425T121301Z
GEO:37.5450707;-77.4368334
X-APPLE-STRUCTURED-LOCATION;VALUE=URI;X-ADDRESS=403 North 3rd Street\, Rich
 mond\, Virginia 23219.;X-APPLE-RADIUS=72;X-TITLE=Greater Richmond Conventi
 on Center:37.5450707;-77.4368334
BEGIN:VALARM
ACTION:DISPLAY
TRIGGER:-PT10080M
END:VALARM
END:VEVENT
END:VCALENDAR