BEGIN:VCALENDAR
VERSION:2.0
PRODID:spatie/icalendar-generator
BEGIN:VEVENT
UID:10406
SUMMARY:Happily Ever Expo - Wedding Expo - Peabody\, MA
DESCRIPTION:Join us at the Happily Ever Expo in Providence for all things w
 edding - from dresses to cakes\, we've got you covered!\n\n\nCelebrate 
 being engaged at our wedding expo while meeting wedding professionals to h
 elp plan your dream day all while viewing a beautiful venue! Drinks availa
 ble at the cash bar! Music\, lights\, tastings\, discounts and more! Don't
  miss out!!\n\n\nEvery couple that attends will get a swag bag that inc
 ludes*:\n\n\n- A gift card for 2 wedding bands from Forevermore Jewelry
 ! A $500 value!\n- Chambord swag!\n- Boston Weddings Magazine’s latest
  issue!\n- Swag from Happily Ever Expo!\n- AW Bridal Catalog & Coupon!\
 n- Exclusive discounts from The Mrs. Box!\nand more!\n\n\n\n*PLUS mul
 tiple chances to WIN a 3 day/2 night ALL INCLUSIVE HONEYMOON (excludes air
 fare)\, $800 value to a Viva Wyndham Resort in Mexico\, Dominican Republic
 \, Or Bahamas!\n\n\nAnd more chances to win these additional door prize
  giveaways*:\n\n\n- A $500 boudoir shoot with Mon Chari Boudoir plus $2
 00 in product credit! Total value $700!\n- A Double Ring Box by The Mrs. 
 Box!\n- A $100 Tieks by Gavrieli Gift Card! Multiple chances!\nMORE to b
 e announced!\n\n\nEXCLUSIVE! AT THE EXPO: Enter fo your chance to WIN a
  HONEYMOON at the 5-Star Luxury Sandals Ochi Beach Resort through WeddingV
 ibe.com\, a value of up to $1800!\n\n\nIf you need a different time tha
 n what is available\, please email info@happilyeverexpo.com.\n\n\n*All 
 swag bag items and door prize giveaways may vary and are subject to change
 .
LOCATION:8A Centennial Drive\, Peabody\, Massachusetts 01960.
STATUS:CONFIRMED
URL:https://weddingshows.net/wedding-show/happily-ever-expo-wedding-expo-pe
 abody-ma-17-may-2026
DTSTART:20260517T163000Z
DTEND:20260517T193000Z
DTSTAMP:20260420T133132Z
GEO:42.5242897;-70.9572272
X-APPLE-STRUCTURED-LOCATION;VALUE=URI;X-ADDRESS=8A Centennial Drive\, Peabo
 dy\, Massachusetts 01960.;X-APPLE-RADIUS=72;X-TITLE=Boston Marriott Peabod
 y:42.5242897;-70.9572272
BEGIN:VALARM
ACTION:DISPLAY
TRIGGER:-PT10080M
END:VALARM
END:VEVENT
END:VCALENDAR