BEGIN:VCALENDAR
VERSION:2.0
PRODID:spatie/icalendar-generator
BEGIN:VEVENT
UID:10370
SUMMARY:Western New England Fall Bridal Show
DESCRIPTION:The Western New England Fall Bridal Show brings together amazin
 g wedding professionals\, local trends\, cake and food samples\, rentals\,
  fashion and inspiration for weddings in our area! Come enjoy a fun\, crea
 tive\, inspiring wedding planning event!  Swag bags\, giveaways and specia
 l show discounts!  \nCome spend the day meeting expert wedding profession
 als\, defining your style and wishes\, having fun and enjoying your planni
 ng experience!!
LOCATION:1277 Main Street\, Springfield\, Massachusetts 01103.
STATUS:CONFIRMED
URL:https://weddingshows.net/wedding-show/western-new-england-fall-bridal-s
 how-8-november-2026
DTSTART:20261108T160000Z
DTEND:20261108T200000Z
DTSTAMP:20260424T204055Z
GEO:42.102002;-72.5871329
X-APPLE-STRUCTURED-LOCATION;VALUE=URI;X-ADDRESS=1277 Main Street\, Springfi
 eld\, Massachusetts 01103.;X-APPLE-RADIUS=72;X-TITLE=MassMutual Center:42.
 102002;-72.5871329
BEGIN:VALARM
ACTION:DISPLAY
TRIGGER:-PT10080M
END:VALARM
END:VEVENT
END:VCALENDAR