BEGIN:VCALENDAR
VERSION:2.0
PRODID:spatie/icalendar-generator
BEGIN:VEVENT
UID:10346
SUMMARY:N.E.S. Scottsdale Bridal Expo
DESCRIPTION:Scottsdale's Signature FREE Bridal Event Returns In April!\n\
 nFREE TO ATTEND WITH PRE-REGISTRATION! Pre-Register now at ScottsdaleBrida
 lExpo.com\n\nFREE TO ATTEND FOR YOU AND YOUR GUESTS!\n\nTons of prizes
 \, giveaways\, raffles\, and more!\n\nSince 2012\, The N.E.S. Scottsdale
  Bridal Expo has been the area's largest FREE bridal event for soon-to-be 
 brides and amazing world class vendors. From Disc Jockeys to venues\, hone
 ymoon destinations to the perfect wedding cake\, luxury transportation to 
 insurance teams to meet your new needs\, and everything in between\, the e
 xhibitors at the expo are there to assist you in every way to realize your
  vision\, and make your special day perfect. WE HAVE IT ALL!\n\nThe N.E.
 S. Scottsdale Bridal Expo takes place on Sunday\, April 26\, 2026 at the F
 ieldhouse Event Center at Scottsdale Stadium.\n\n*Limited vendor spaces 
 available\n\nFor more information and to pre-register\, please visit www
 .ScottsdaleBridalExpo.com\n\nPresented by N.E.S. Bridal\, LLC
LOCATION:7460 East Osborn Drive\, Scottsdale\, Arizona 85251.
STATUS:CONFIRMED
URL:https://weddingshows.net/wedding-show/nes-scottsdale-bridal-expo-26-apr
 il-2026
DTSTART:20260426T170000Z
DTEND:20260426T210000Z
DTSTAMP:20260425T121604Z
GEO:33.4868712;-111.9241551
X-APPLE-STRUCTURED-LOCATION;VALUE=URI;X-ADDRESS=7460 East Osborn Drive\, Sc
 ottsdale\, Arizona 85251.;X-APPLE-RADIUS=72;X-TITLE=Scottsdale Stadium - F
 ield House:33.4868712;-111.9241551
BEGIN:VALARM
ACTION:DISPLAY
TRIGGER:-PT10080M
END:VALARM
END:VEVENT
END:VCALENDAR