BEGIN:VCALENDAR
VERSION:2.0
PRODID:spatie/icalendar-generator
BEGIN:VEVENT
UID:10341
SUMMARY:OC Bridal Show - June 7\, 2026
DESCRIPTION:🎉 Premier Bridal Show – June 7\, 2026 | Hilton Anaheim 
 🎉\n\n🕚 11:00 AM – 3:00 PM | 📍 Hilton Anaheim\, Paradise Ballr
 oom – 777 W Convention Way\, Anaheim\, CA\n\n\n\nCalling all Brides\
 , Grooms\, Families & Friends—✨This is the wedding planning event of t
 he season you don’t want to miss!\n\n\n\n💍 WHAT TO EXPECT\n\n
 ✔️ Shop & meet Southern California’s TOP wedding vendors\n\n✔️
  Discover the latest wedding trends\, styles\, and ideas\n\n✔️ Colle
 ct gourmet wedding samples\, magazines\, and inspiration\n\n✔️ Score
  exclusive show deals and amazing giveaways\n\n\n\n🎁 SHOW PERKS & P
 RIZES\n\n🎉 FREE eco-friendly\, reusable tote for every Bride & Groom
 \n\n🎉 Vendor Door Prizes\n\n🎉 Wedding Gown Gift Card Raffle\n\n
 🎉 2 FREE WEDDING BANDS for every Bride (compliments of Forevermore Jewe
 lry)\n\n\n\n🎉 Enter to WIN our Disney Honeymoon Getaway!\n\n🏰 
 2 Disneyland 1-Day Tickets\n\n🏨 One-night stay at Hilton Anaheim\n\
 n👰‍♀️ Bride & Groom Mickey Ears\n\n🍾 Champagne Bottle + Mr. 
 & Mrs. Glasses\n\n\n\n🎟️ TICKET INFO\n\n💸 50% OFF with onlin
 e pre-registration – ONLY $7!\n\n🚪 $15 at the door\n\n🧾 Every 
 ticket includes 5 total admissions – bring your crew!\n\n\n\n🌟 Up
 grade to VIP for extra perks\, early access & bonus raffles!\n\n\n\n
 👀 If you’re newly #engaged or finalizing the details\, the Premier Br
 idal Show at the Hilton Anaheim will help you bring your dream day to life
 —all under one roof.\n\n\n\n✨ Plan your big day with ease\, win bi
 g\, and make unforgettable memories with your bride tribe and groom crew!
LOCATION:777 West Convention Way\, Anaheim\, California 92802.
STATUS:CONFIRMED
URL:https://weddingshows.net/wedding-show/oc-bridal-show-june-7-2026-7-june
 -2026
DTSTART:20260607T180000Z
DTEND:20260607T220000Z
DTSTAMP:20260425T121407Z
GEO:33.7993529;-117.918037
X-APPLE-STRUCTURED-LOCATION;VALUE=URI;X-ADDRESS=777 West Convention Way\, A
 naheim\, California 92802.;X-APPLE-RADIUS=72;X-TITLE=Hilton Anaheim:33.799
 3529;-117.918037
BEGIN:VALARM
ACTION:DISPLAY
TRIGGER:-PT10080M
END:VALARM
END:VEVENT
END:VCALENDAR